BEGIN:VCALENDAR
PRODID:-//eluceo/ical//2.0/EN
VERSION:2.0
CALSCALE:GREGORIAN
BEGIN:VEVENT
UID:event-225
DTSTAMP:20260420T104241Z
SUMMARY:JFV Café: Hekkelman Advocaten & Notarissen
DESCRIPTION:Op maandag 31 maart a.s. zal er voor een kleine groep studenten
  de mogelijkheid zijn om\, onder het genot van een koffietje en gebakje\, 
 Hekkelman te leren kennen. Het JFV-Café zal plaatsvinden bij Faber te Nij
 megen van 10:00-12:00 uur. Mocht jij Hekkelman beter willen leren kennen\,
  meld je dan snel aan via de button! LET OP: op deze activiteit is het boe
 tebeding van toepassing!
DTSTART:20250331T080000Z
DTEND:20250331T100000Z
END:VEVENT
BEGIN:VTIMEZONE
TZID:UTC
BEGIN:STANDARD
DTSTART:20250331T080000
TZNAME:UTC
TZOFFSETTO:+0000
TZOFFSETFROM:+0000
END:STANDARD
END:VTIMEZONE
END:VCALENDAR
