BEGIN:VCALENDAR
PRODID:-//eluceo/ical//2.0/EN
VERSION:2.0
CALSCALE:GREGORIAN
BEGIN:VEVENT
UID:event-214
DTSTAMP:20260420T104625Z
SUMMARY:Legal Skills Week: Workshop pleiten met Immigratie en Naturalisatie
 dienst
DESCRIPTION:Hoe reageer je als een rechter onverwachte vragen stelt? Wat do
 e je als de tegenpartij met nieuw bewijs komt? Tijdens de Legal Skills Wee
 k organiseert de IND een workshop pleiten\, waarin je leert omgaan met onv
 oorziene situaties tijdens een zitting. Een must voor elke (toekomstige) j
 urist!   📅 Woensdag 12 maart ⏰ 12:15 uur (pauze) 📍 Locatie\, GR -
 1.075   In deze interactieve workshop krijg je praktische tips en oefen j
 e hoe je zelfverzekerd en effectief kunt pleiten\, zelfs als de situatie a
 nders loopt dan verwacht. Een unieke kans om je juridische skills te verst
 erken!     Over de IND De Immigratie- en Naturalisatiedienst (IND) beoor
 deelt aanvragen van mensen die in Nederland willen wonen of asiel aanvrage
 n. Tijdens rechtszaken vertegenwoordigen hun juristen de staat in complexe
  zaken. Dit is dé kans om te leren van professionals met uitgebreide erva
 ring in de rechtbank!   Meld je dus snel aan en tot dan! Let op: het boet
 ebeding is op deze activiteit van toepassing.  
DTSTART:20250312T111500Z
DTEND:20250312T123000Z
END:VEVENT
BEGIN:VTIMEZONE
TZID:UTC
BEGIN:STANDARD
DTSTART:20250312T111500
TZNAME:UTC
TZOFFSETTO:+0000
TZOFFSETFROM:+0000
END:STANDARD
END:VTIMEZONE
END:VCALENDAR
