BEGIN:VCALENDAR
PRODID:-//eluceo/ical//2.0/EN
VERSION:2.0
CALSCALE:GREGORIAN
BEGIN:VEVENT
UID:event-177
DTSTAMP:20260419T124930Z
SUMMARY:Sinterklaasborrel
DESCRIPTION:Beste leden\,  De eerste sneeuw is gevallen en daarmee is het 
 alweer bijna tijd voor de jaarlijkse Sinterklaasborrel op 4 december. Heb 
 jij nog leuke of stoute verhalen over jezelf of over een vriend\, stuur ze
  vooral in via de link en wie weet leest Sinterklaas het verhaal wel voor
  uit zijn boek! Tot dan! 
DTSTART:20241204T203000Z
DTEND:20241205T010000Z
END:VEVENT
BEGIN:VTIMEZONE
TZID:UTC
BEGIN:STANDARD
DTSTART:20241204T203000
TZNAME:UTC
TZOFFSETTO:+0000
TZOFFSETFROM:+0000
END:STANDARD
END:VTIMEZONE
END:VCALENDAR
