BEGIN:VCALENDAR
PRODID:-//eluceo/ical//2.0/EN
VERSION:2.0
CALSCALE:GREGORIAN
BEGIN:VEVENT
UID:event-156
DTSTAMP:20260420T090017Z
SUMMARY:Maandelijkse borrel
DESCRIPTION:Het collejaar is ondertussen alweer een tijdje bezig en dat bet
 ekent dat het ook weer tijd is voor een nieuwe maandelijkse borrel! Je kan
  tijdens deze prachtige avond wederom genieten van de bovenstaande acties
 . Hopelijk zien we je daar! 16 oktober\, vanaf 21:30 bij Café de Fuik. 
DTSTART:20241016T193000Z
DTEND:20241017T000000Z
END:VEVENT
BEGIN:VTIMEZONE
TZID:UTC
BEGIN:STANDARD
DTSTART:20241016T193000
TZNAME:UTC
TZOFFSETTO:+0000
TZOFFSETFROM:+0000
END:STANDARD
END:VTIMEZONE
END:VCALENDAR
